BEGIN:VCALENDAR
VERSION:2.0
PRODID:-//ChamberMaster//Event Calendar 2.0//EN
METHOD:PUBLISH
X-PUBLISHED-TTL:P3D
REFRESH-INTERVAL:P3D
CALSCALE:GREGORIAN
BEGIN:VEVENT
DTSTART:20250420T170000Z
DTEND:20250420T180000Z
X-MICROSOFT-CDO-ALLDAYEVENT:FALSE
SUMMARY:Easter Celebration at Alcantara Vineyards Chapel
DESCRIPTION:Jesus is the true vine\, and his Father is the Gardener (John 15:1). Come as you are and celebrate the resurrection of Jesus Christ amid beautiful vineyards KidsLIFE children's activities for ages 4-12 COME FOR THE CELEBRATION\, STAY FOR THE COMMUNITY! Alcantara Vineyards and Winery will open for business at 11am with Live Music\, Food & Beverages for purchase & Adult Easter Egg 'Hunt'
X-ALT-DESC;FMTTYPE=text/html:Jesus is the true vine\, and his Father is the Gardener (John 15:1). Come as you are and celebrate the resurrection of Jesus Christ amid beautiful vineyards KidsLIFE children&rsquo\;s activities for ages 4-12 COME FOR THE CELEBRATION\, STAY FOR THE COMMUNITY! Alcantara Vineyards and Winery will open for business at 11am with Live Music\, Food &amp\; Beverages for purchase &amp\; Adult Easter Egg &lsquo\;Hunt&rsquo\;
LOCATION:Alcantara Vineyards 3445 S Grapevine Way Camp Verde\, AZ
UID:e.332.31174
SEQUENCE:3
DTSTAMP:20260424T062417Z
URL:https://business.cottonwoodchamberaz.org/events/details/easter-celebration-at-alcantara-vineyards-chapel-31174
END:VEVENT

END:VCALENDAR
